BEGIN:VCALENDAR
VERSION:2.0
PRODID:-//Lincoln Lodge #11 F&amp;AM  - ECPv6.3.7//NONSGML v1.0//EN
CALSCALE:GREGORIAN
METHOD:PUBLISH
X-WR-CALNAME:Lincoln Lodge #11 F&amp;AM 
X-ORIGINAL-URL:https://lincolnlodge11va.com
X-WR-CALDESC:Events for Lincoln Lodge #11 F&amp;AM 
REFRESH-INTERVAL;VALUE=DURATION:PT1H
X-Robots-Tag:noindex
X-PUBLISHED-TTL:PT1H
BEGIN:VTIMEZONE
TZID:UTC
BEGIN:STANDARD
TZOFFSETFROM:+0000
TZOFFSETTO:+0000
TZNAME:UTC
DTSTART:20190101T000000
END:STANDARD
END:VTIMEZONE
BEGIN:VEVENT
DTSTART;TZID=UTC:20191026T110000
DTEND;TZID=UTC:20191026T170000
DTSTAMP:20260421T120728
CREATED:20190723T011625Z
LAST-MODIFIED:20191024T110043Z
UID:9117-1572087600-1572109200@lincolnlodge11va.com
SUMMARY:Lincoln Lodge and Chapter Fish Fry
DESCRIPTION:
URL:https://lincolnlodge11va.com/event/lincoln-lodge-and-chapter-fish-fry
LOCATION:Lincoln Lodge #11\, 3656 madison street\, alexansria\, VA\, 22314\, United States
END:VEVENT
BEGIN:VEVENT
DTSTART;VALUE=DATE:20191012
DTEND;VALUE=DATE:20191013
DTSTAMP:20260421T120728
CREATED:20190723T010334Z
LAST-MODIFIED:20190723T010804Z
UID:9110-1570838400-1570924799@lincolnlodge11va.com
SUMMARY:Grand Master's Fall Golf Tournament
DESCRIPTION:
URL:https://lincolnlodge11va.com/event/grand-masters-fall-golf-tournament
LOCATION:Kisliak Golf Club\, 8104 Club Drive\, Williamsburg\, VA\, 23188\, United States
END:VEVENT
BEGIN:VEVENT
DTSTART;TZID=UTC:20191011T193000
DTEND;TZID=UTC:20191011T213000
DTSTAMP:20260421T120728
CREATED:20190723T100900Z
LAST-MODIFIED:20190723T100900Z
UID:9127-1570822200-1570829400@lincolnlodge11va.com
SUMMARY:31st Masonic District Meeting
DESCRIPTION:
URL:https://lincolnlodge11va.com/event/31st-masonic-district-meeting
END:VEVENT
BEGIN:VEVENT
DTSTART;TZID=UTC:20190929T113000
DTEND;TZID=UTC:20190929T140000
DTSTAMP:20260421T120728
CREATED:20190723T005107Z
LAST-MODIFIED:20190723T005107Z
UID:9100-1569756600-1569765600@lincolnlodge11va.com
SUMMARY:Sunday Divine Worship Service
DESCRIPTION:
URL:https://lincolnlodge11va.com/event/sunday-divine-worship-service
END:VEVENT
BEGIN:VEVENT
DTSTART;VALUE=DATE:20190911
DTEND;VALUE=DATE:20190916
DTSTAMP:20260421T120728
CREATED:20190517T001935Z
LAST-MODIFIED:20190905T133912Z
UID:8892-1568160000-1568591999@lincolnlodge11va.com
SUMMARY:Grand Lodge Session
DESCRIPTION:144th Annual Communication Information\nThe 144th Annual Communication will be held from 11-14 September at the Expo Center located in Frederickburg\, VA.\nAll Grand Lodge Session forms can be found by clicking on the above image or the link below: \n 
URL:https://lincolnlodge11va.com/event/grand-lodge-session
LOCATION:Fredericksburg Expo and Conference Center\, 2371 Carl D. Silver Pkwy\, Fredericksburg\, VA\, 22401\, United States
END:VEVENT
BEGIN:VEVENT
DTSTART;TZID=UTC:20190908T093000
DTEND;TZID=UTC:20190908T123000
DTSTAMP:20260421T120728
CREATED:20190905T123358Z
LAST-MODIFIED:20190905T131441Z
UID:10149-1567935000-1567945800@lincolnlodge11va.com
SUMMARY:The 100 Mason Sit-In
DESCRIPTION:  \n  \n  \n*Service will be at 10:00 am. Arrive no later than 9:30 am .Procession will begin at 10:45am. Dress code is Black & White-Regalia with Gloves  
URL:https://lincolnlodge11va.com/event/the-100-mason-sit-in
LOCATION:Mount Zion Baptist Church\, 18418 Chapel Street\, Triangle\, 22172\, United States
END:VEVENT
BEGIN:VEVENT
DTSTART;TZID=UTC:20190903T200000
DTEND;TZID=UTC:20190903T220000
DTSTAMP:20260421T120728
CREATED:20190723T005811Z
LAST-MODIFIED:20190723T005828Z
UID:9107-1567540800-1567548000@lincolnlodge11va.com
SUMMARY:Lincoln Lodge #11 Communication
DESCRIPTION:
URL:https://lincolnlodge11va.com/event/lincoln-lodge-11-communication-2
LOCATION:Lincoln Lodge #11\, 3656 madison street\, alexansria\, VA\, 22314\, United States
END:VEVENT
BEGIN:VEVENT
DTSTART;VALUE=DATE:20190824
DTEND;VALUE=DATE:20190825
DTSTAMP:20260421T120728
CREATED:20190723T005515Z
LAST-MODIFIED:20190723T005515Z
UID:9103-1566604800-1566691199@lincolnlodge11va.com
SUMMARY:Friends & Family Cookout
DESCRIPTION:
URL:https://lincolnlodge11va.com/event/friends-family-cookout
LOCATION:Castle Park\, Virginia\, United States
END:VEVENT
BEGIN:VEVENT
DTSTART;TZID=UTC:20190823T100000
DTEND;TZID=UTC:20190823T170000
DTSTAMP:20260421T120728
CREATED:20190723T004527Z
LAST-MODIFIED:20190723T004527Z
UID:9097-1566554400-1566579600@lincolnlodge11va.com
SUMMARY:Back Pack Give Away
DESCRIPTION:
URL:https://lincolnlodge11va.com/event/back-pack-give-away
LOCATION:Lincoln Lodge #11\, 3656 madison street\, alexansria\, VA\, 22314\, United States
END:VEVENT
BEGIN:VEVENT
DTSTART;VALUE=DATE:20190810
DTEND;VALUE=DATE:20190811
DTSTAMP:20260421T120728
CREATED:20190723T004150Z
LAST-MODIFIED:20190723T103925Z
UID:9093-1565395200-1565481599@lincolnlodge11va.com
SUMMARY:Grand Lodge Cookout
DESCRIPTION:Grand Lodge Cookout\nThe Grand Lodge Cookouts will be held on 27 July (West - Chase City) and 10 August (East - Richmond). You are invited to join the Masonic Family for a day of fun for the entire family.
URL:https://lincolnlodge11va.com/event/grand-lodge-cookout
LOCATION:Grand Lodge of Virginia\, 906 N Thompson Street\, Richmond\, Virginia\, 23230
END:VEVENT
BEGIN:VEVENT
DTSTART;TZID=UTC:20190809T193000
DTEND;TZID=UTC:20190809T213000
DTSTAMP:20260421T120728
CREATED:20190723T003002Z
LAST-MODIFIED:20190723T003013Z
UID:9087-1565379000-1565386200@lincolnlodge11va.com
SUMMARY:31st District Meeting
DESCRIPTION:
URL:https://lincolnlodge11va.com/event/31st-district-meeting
END:VEVENT
BEGIN:VEVENT
DTSTART;TZID=UTC:20190806T200000
DTEND;TZID=UTC:20190806T220000
DTSTAMP:20260421T120728
CREATED:20190723T002659Z
LAST-MODIFIED:20190723T100412Z
UID:9085-1565121600-1565128800@lincolnlodge11va.com
SUMMARY:Lincoln Lodge #11 Communication
DESCRIPTION:
URL:https://lincolnlodge11va.com/event/lincoln-lodge-11-communication
LOCATION:Lincoln Lodge #11\, 3656 madison street\, alexansria\, VA\, 22314\, United States
END:VEVENT
BEGIN:VEVENT
DTSTART;TZID=UTC:20190723T080000
DTEND;TZID=UTC:20190723T170000
DTSTAMP:20260421T120728
CREATED:20190723T003252Z
LAST-MODIFIED:20190723T003252Z
UID:9090-1563868800-1563901200@lincolnlodge11va.com
SUMMARY:Lodge Visitation to Arlington#58
DESCRIPTION:
URL:https://lincolnlodge11va.com/event/lodge-visitation-to-arlington58
LOCATION:Arlington Va.\, TBA
END:VEVENT
BEGIN:VEVENT
DTSTART;VALUE=DATE:20190623
DTEND;VALUE=DATE:20190624
DTSTAMP:20260421T120728
CREATED:20190301T011949Z
LAST-MODIFIED:20190301T011949Z
UID:8337-1561248000-1561334399@lincolnlodge11va.com
SUMMARY:St. John the Baptist Day
DESCRIPTION:
URL:https://lincolnlodge11va.com/event/st-john-the-baptist-day
END:VEVENT
BEGIN:VEVENT
DTSTART;TZID=UTC:20190622T190000
DTEND;TZID=UTC:20190622T233000
DTSTAMP:20260421T120728
CREATED:20190301T012231Z
LAST-MODIFIED:20190301T012231Z
UID:8341-1561230000-1561246200@lincolnlodge11va.com
SUMMARY:Grand Charity Ball
DESCRIPTION:
URL:https://lincolnlodge11va.com/event/grand-charity-ball
END:VEVENT
BEGIN:VEVENT
DTSTART;VALUE=DATE:20190601
DTEND;VALUE=DATE:20190602
DTSTAMP:20260421T120728
CREATED:20190301T012358Z
LAST-MODIFIED:20190301T012358Z
UID:8343-1559347200-1559433599@lincolnlodge11va.com
SUMMARY:Grand Lodge Golf Turnament
DESCRIPTION:
URL:https://lincolnlodge11va.com/event/grand-lodge-golf-turnament
END:VEVENT
BEGIN:VEVENT
DTSTART;VALUE=DATE:20190519
DTEND;VALUE=DATE:20190520
DTSTAMP:20260421T120728
CREATED:20190301T011801Z
LAST-MODIFIED:20190301T011839Z
UID:8335-1558224000-1558310399@lincolnlodge11va.com
SUMMARY:Founder's Day
DESCRIPTION:
URL:https://lincolnlodge11va.com/event/founders-day
LOCATION:Lincoln Lodge #11\, 3656 madison street\, alexansria\, VA\, 22314\, United States
END:VEVENT
BEGIN:VEVENT
DTSTART;VALUE=DATE:20190515
DTEND;VALUE=DATE:20190520
DTSTAMP:20260421T120728
CREATED:20190301T012057Z
LAST-MODIFIED:20190301T012116Z
UID:8339-1557878400-1558310399@lincolnlodge11va.com
SUMMARY:DDGM Worksop
DESCRIPTION:
URL:https://lincolnlodge11va.com/event/ddgm-worksop
END:VEVENT
BEGIN:VEVENT
DTSTART;VALUE=DATE:20190504
DTEND;VALUE=DATE:20190505
DTSTAMP:20260421T120728
CREATED:20190305T013330Z
LAST-MODIFIED:20190305T013330Z
UID:8382-1556928000-1557014399@lincolnlodge11va.com
SUMMARY:Joint third Degree Raising
DESCRIPTION:
URL:https://lincolnlodge11va.com/event/joint-third-degree-raising
END:VEVENT
BEGIN:VEVENT
DTSTART;VALUE=DATE:20190423
DTEND;VALUE=DATE:20190424
DTSTAMP:20260421T120728
CREATED:20190301T010049Z
LAST-MODIFIED:20190301T010050Z
UID:8326-1555977600-1556063999@lincolnlodge11va.com
SUMMARY:Universal Lodge Marker Presentation
DESCRIPTION:
URL:https://lincolnlodge11va.com/event/universal-lodge-marker-presentation
LOCATION:Universal Lodge\, 112E. Oxford Ave.\, alexansria\, VA\, 22301\, United States
END:VEVENT
BEGIN:VEVENT
DTSTART;TZID=UTC:20190407T080000
DTEND;TZID=UTC:20190407T170000
DTSTAMP:20260421T120728
CREATED:20190228T105401Z
LAST-MODIFIED:20190228T105401Z
UID:8304-1554624000-1554656400@lincolnlodge11va.com
SUMMARY:Third Degree Ritual
DESCRIPTION:
URL:https://lincolnlodge11va.com/event/third-degree-ritual
LOCATION:Lincoln Lodge #11\, 3656 madison street\, alexansria\, VA\, 22314\, United States
ORGANIZER;CN="":MAILTO:michaelapetty@aol.com
END:VEVENT
BEGIN:VEVENT
DTSTART;TZID=UTC:20190330T180000
DTEND;TZID=UTC:20190330T233000
DTSTAMP:20260421T120728
CREATED:20190301T011027Z
LAST-MODIFIED:20190301T011027Z
UID:8329-1553968800-1553988600@lincolnlodge11va.com
SUMMARY:Banquet at Triange Lodge #293
DESCRIPTION:
URL:https://lincolnlodge11va.com/event/banquet-at-triange-lodge-293
LOCATION:Triangle Lodge#293\, 19030Bethlehem Church Rd.\, Triangle\, VA\, 22172\, United States
END:VEVENT
BEGIN:VEVENT
DTSTART;TZID=UTC:20190321T200000
DTEND;TZID=UTC:20190321T223000
DTSTAMP:20260421T120728
CREATED:20190301T002340Z
LAST-MODIFIED:20190301T002340Z
UID:8324-1553198400-1553207400@lincolnlodge11va.com
SUMMARY:Monthly Lodge Communication
DESCRIPTION:
URL:https://lincolnlodge11va.com/event/monthly-lodge-communication-2
LOCATION:Lincoln Lodge #11\, 3656 madison street\, alexansria\, VA\, 22314\, United States
END:VEVENT
BEGIN:VEVENT
DTSTART;VALUE=DATE:20190315
DTEND;VALUE=DATE:20190318
DTSTAMP:20260421T120728
CREATED:20190301T011620Z
LAST-MODIFIED:20190301T011620Z
UID:8332-1552608000-1552867199@lincolnlodge11va.com
SUMMARY:Mid Atlantic Conference
DESCRIPTION:
URL:https://lincolnlodge11va.com/event/mid-atlantic-conference
LOCATION:Arlington Va.\, TBA
END:VEVENT
BEGIN:VEVENT
DTSTART;TZID=UTC:20190307T200000
DTEND;TZID=UTC:20190307T220000
DTSTAMP:20260421T120728
CREATED:20190301T001245Z
LAST-MODIFIED:20190301T001258Z
UID:8318-1551988800-1551996000@lincolnlodge11va.com
SUMMARY:Monthly Lodge Communication
DESCRIPTION:Masonic Labor is the first and third Tuesday of each Month
URL:https://lincolnlodge11va.com/event/monthly-lodge-communication
LOCATION:Lincoln Lodge #11\, 3656 madison street\, alexansria\, VA\, 22314\, United States
END:VEVENT
BEGIN:VEVENT
DTSTART;TZID=UTC:20190307T180000
DTEND;TZID=UTC:20190307T200000
DTSTAMP:20260421T120728
CREATED:20190301T001833Z
LAST-MODIFIED:20190301T001833Z
UID:8320-1551981600-1551988800@lincolnlodge11va.com
SUMMARY:Rehersal for first Degree
DESCRIPTION:Rehersal for First Degree
URL:https://lincolnlodge11va.com/event/rehersal-for-first-degree
LOCATION:Lincoln Lodge #11\, 3656 madison street\, alexansria\, VA\, 22314\, United States
END:VEVENT
BEGIN:VEVENT
DTSTART;TZID=UTC:20190223T080000
DTEND;TZID=UTC:20190223T170000
DTSTAMP:20260421T120728
CREATED:20190223T002824Z
LAST-MODIFIED:20190223T002824Z
UID:438-1550908800-1550941200@lincolnlodge11va.com
SUMMARY:Payments
DESCRIPTION:subscriptions-memberships-for-paypal.1.1.2-1
URL:https://lincolnlodge11va.com/event/payments
END:VEVENT
END:VCALENDAR